Package: multiMiR Version: 1.28.0 Command: rm -rf multiMiR.buildbin-libdir && mkdir multiMiR.buildbin-libdir && /Users/biocbuild/BBS/utils/build-universal.sh multiMiR_1.28.0.tar.gz /Library/Frameworks/R.framework/Resources/bin/R multiMiR.buildbin-libdir StartedAt: 2025-02-04 13:35:01 -0500 (Tue, 04 Feb 2025) EndedAt: 2025-02-04 13:36:03 -0500 (Tue, 04 Feb 2025) EllapsedTime: 62.1 seconds RetCode: 0 Status: OK PackageFile: multiMiR_1.28.0.tgz PackageFileSize: 628.3 KiB