Package: multiMiR Version: 1.28.0 Command: /home/biocbuild/bbs-3.20-bioc/R/bin/R CMD build --keep-empty-dirs --no-resave-data --md5 multiMiR StartedAt: 2025-02-03 18:25:50 -0500 (Mon, 03 Feb 2025) EndedAt: 2025-02-03 18:26:53 -0500 (Mon, 03 Feb 2025) EllapsedTime: 63.1 seconds RetCode: 0 Status: OK PackageFile: multiMiR_1.28.0.tar.gz PackageFileSize: 334.9 KiB