Package: multiMiR Version: 1.28.0 Command: /home/biocbuild/bbs-3.20-bioc/R/bin/R CMD INSTALL multiMiR StartedAt: 2025-02-03 15:26:11 -0500 (Mon, 03 Feb 2025) EndedAt: 2025-02-03 15:26:28 -0500 (Mon, 03 Feb 2025) EllapsedTime: 17.0 seconds RetCode: 0 Status: OK