Package: multiMiR Version: 1.28.0 Command: /home/biocbuild/R/R/bin/R CMD INSTALL multiMiR StartedAt: 2025-02-03 20:39:23 -0000 (Mon, 03 Feb 2025) EndedAt: 2025-02-03 20:39:45 -0000 (Mon, 03 Feb 2025) EllapsedTime: 22.2 seconds RetCode: 0 Status: OK