Package: multicrispr Version: 1.16.1 Command: rm -rf multicrispr.buildbin-libdir && mkdir multicrispr.buildbin-libdir && /Users/biocbuild/BBS/utils/build-universal.sh multicrispr_1.16.1.tar.gz /Library/Frameworks/R.framework/Resources/bin/R multicrispr.buildbin-libdir StartedAt: 2025-02-04 13:34:51 -0500 (Tue, 04 Feb 2025) EndedAt: 2025-02-04 13:36:56 -0500 (Tue, 04 Feb 2025) EllapsedTime: 124.3 seconds RetCode: 0 Status: OK PackageFile: multicrispr_1.16.1.tgz PackageFileSize: 2.745 MiB