Package: multicrispr Version: 1.16.1 Command: /Library/Frameworks/R.framework/Resources/bin/R CMD build --keep-empty-dirs --no-resave-data multicrispr StartedAt: 2025-02-03 20:44:21 -0500 (Mon, 03 Feb 2025) EndedAt: 2025-02-03 20:47:25 -0500 (Mon, 03 Feb 2025) EllapsedTime: 184.1 seconds RetCode: 0 Status: OK PackageFile: multicrispr_1.16.1.tar.gz PackageFileSize: 2.586 MiB