Package: multicrispr Version: 1.16.1 Command: /Library/Frameworks/R.framework/Resources/bin/R CMD check --install=check:multicrispr.install-out.txt --library=/Library/Frameworks/R.framework/Resources/library --no-vignettes --timings multicrispr_1.16.1.tar.gz StartedAt: 2025-02-04 07:00:34 -0500 (Tue, 04 Feb 2025) EndedAt: 2025-02-04 07:13:57 -0500 (Tue, 04 Feb 2025) EllapsedTime: 803.0 seconds RetCode: 0 Status: OK CheckDir: multicrispr.Rcheck Warnings: 0