Package: multicrispr Version: 1.16.1 Command: /Library/Frameworks/R.framework/Resources/bin/R CMD INSTALL multicrispr StartedAt: 2025-02-03 16:06:31 -0500 (Mon, 03 Feb 2025) EndedAt: 2025-02-03 16:07:44 -0500 (Mon, 03 Feb 2025) EllapsedTime: 73.5 seconds RetCode: 0 Status: OK