Package: multicrispr Version: 1.15.0 Command: chmod a+r multicrispr -R && C:\Users\biocbuild\bbs-3.20-bioc\R\bin\R.exe CMD build --keep-empty-dirs --no-resave-data multicrispr StartedAt: 2024-07-15 19:27:54 -0400 (Mon, 15 Jul 2024) EndedAt: 2024-07-15 19:30:11 -0400 (Mon, 15 Jul 2024) EllapsedTime: 137.2 seconds RetCode: 0 Status: OK PackageFile: multicrispr_1.15.0.tar.gz PackageFileSize: 1.967 MiB