Package: multicrispr Version: 1.16.1 Command: rm -rf multicrispr.buildbin-libdir && mkdir multicrispr.buildbin-libdir && F:\biocbuild\bbs-3.20-bioc\R\bin\R.exe CMD INSTALL --build --library=multicrispr.buildbin-libdir multicrispr_1.16.1.tar.gz StartedAt: 2025-02-04 09:01:33 -0500 (Tue, 04 Feb 2025) EndedAt: 2025-02-04 09:02:45 -0500 (Tue, 04 Feb 2025) EllapsedTime: 71.6 seconds RetCode: 0 Status: OK PackageFile: multicrispr_1.16.1.zip PackageFileSize: 2.135 MiB