Package: multicrispr Version: 1.16.1 Command: /home/biocbuild/R/R/bin/R CMD build --keep-empty-dirs --no-resave-data multicrispr StartedAt: 2025-02-04 01:17:13 -0000 (Tue, 04 Feb 2025) EndedAt: 2025-02-04 01:18:56 -0000 (Tue, 04 Feb 2025) EllapsedTime: 103.1 seconds RetCode: 0 Status: OK PackageFile: multicrispr_1.16.1.tar.gz PackageFileSize: 2.155 MiB