Package: multicrispr Version: 1.16.1 Command: /home/biocbuild/R/R/bin/R CMD check --install=check:multicrispr.install-out.txt --library=/home/biocbuild/R/R/site-library --no-vignettes --timings multicrispr_1.16.1.tar.gz StartedAt: 2025-02-04 09:11:47 -0000 (Tue, 04 Feb 2025) EndedAt: 2025-02-04 09:19:25 -0000 (Tue, 04 Feb 2025) EllapsedTime: 457.9 seconds RetCode: 0 Status: OK CheckDir: multicrispr.Rcheck Warnings: 0