Package: multicrispr Version: 1.16.1 Command: /home/biocbuild/R/R/bin/R CMD INSTALL multicrispr StartedAt: 2025-02-03 20:57:27 -0000 (Mon, 03 Feb 2025) EndedAt: 2025-02-03 20:58:11 -0000 (Mon, 03 Feb 2025) EllapsedTime: 43.7 seconds RetCode: 0 Status: OK