Package: multtest Version: 2.62.0 Command: /home/biocbuild/bbs-3.20-bioc/R/bin/R CMD build --keep-empty-dirs --no-resave-data --md5 multtest StartedAt: 2025-02-03 18:26:11 -0500 (Mon, 03 Feb 2025) EndedAt: 2025-02-03 18:26:12 -0500 (Mon, 03 Feb 2025) EllapsedTime: 1.0 seconds RetCode: 0 Status: OK PackageFile: multtest_2.62.0.tar.gz PackageFileSize: 1.236 MiB