##############################################################################
##############################################################################
###
### Running command:
###
###   chmod a+r multtest -R && C:\Users\biocbuild\bbs-3.20-bioc\R\bin\R.exe CMD build --keep-empty-dirs --no-resave-data multtest
###
##############################################################################
##############################################################################


* checking for file 'multtest/DESCRIPTION' ... OK
* preparing 'multtest':
* checking DESCRIPTION meta-information ... OK
* cleaning src
* checking for LF line-endings in source and make files and shell scripts
* checking for empty or unneeded directories
* looking to see if a 'data/datalist' file should be added
* building 'multtest_2.61.0.tar.gz'