Package: multtest Version: 2.62.0 Command: /home/biocbuild/R/R/bin/R CMD INSTALL multtest StartedAt: 2025-02-03 21:09:08 -0000 (Mon, 03 Feb 2025) EndedAt: 2025-02-03 21:09:24 -0000 (Mon, 03 Feb 2025) EllapsedTime: 16.3 seconds RetCode: 0 Status: OK