Package: mumosa Version: 1.14.0 Command: rm -rf mumosa.buildbin-libdir && mkdir mumosa.buildbin-libdir && /Users/biocbuild/BBS/utils/build-universal.sh mumosa_1.14.0.tar.gz /Library/Frameworks/R.framework/Resources/bin/R mumosa.buildbin-libdir StartedAt: 2025-02-19 16:11:41 -0500 (Wed, 19 Feb 2025) EndedAt: 2025-02-19 16:12:18 -0500 (Wed, 19 Feb 2025) EllapsedTime: 37.4 seconds RetCode: 0 Status: OK PackageFile: mumosa_1.14.0.tgz PackageFileSize: 744.5 <A href="http://en.wikipedia.org/wiki/KiB" target="_blank">KiB</A>