Package: mumosa Version: 1.14.0 Command: /Library/Frameworks/R.framework/Resources/bin/R CMD INSTALL mumosa StartedAt: 2025-02-17 17:55:57 -0500 (Mon, 17 Feb 2025) EndedAt: 2025-02-17 17:56:31 -0500 (Mon, 17 Feb 2025) EllapsedTime: 33.5 seconds RetCode: 0 Status: OK