Package: muscat Version: 1.20.0 Command: rm -rf muscat.buildbin-libdir && mkdir muscat.buildbin-libdir && /Users/biocbuild/BBS/utils/build-universal.sh muscat_1.20.0.tar.gz /Library/Frameworks/R.framework/Resources/bin/R muscat.buildbin-libdir StartedAt: 2025-02-05 16:53:33 -0500 (Wed, 05 Feb 2025) EndedAt: 2025-02-05 16:54:20 -0500 (Wed, 05 Feb 2025) EllapsedTime: 47.3 seconds RetCode: 0 Status: OK PackageFile: muscat_1.20.0.tgz PackageFileSize: 7.161 MiB