Package: muscat Version: 1.20.0 Command: /Library/Frameworks/R.framework/Resources/bin/R CMD build --keep-empty-dirs --no-resave-data muscat StartedAt: 2025-02-17 20:49:54 -0500 (Mon, 17 Feb 2025) EndedAt: 2025-02-17 21:01:05 -0500 (Mon, 17 Feb 2025) EllapsedTime: 670.6 seconds RetCode: 0 Status: OK PackageFile: muscat_1.20.0.tar.gz PackageFileSize: 6.78 <A href="http://en.wikipedia.org/wiki/MiB" target="_blank">MiB</A>