Package: muscat Version: 1.20.0 Command: F:\biocbuild\bbs-3.20-bioc\R\bin\R.exe CMD check --no-multiarch --install=check:muscat.install-out.txt --library=F:\biocbuild\bbs-3.20-bioc\R\library --no-vignettes --timings muscat_1.20.0.tar.gz StartedAt: 2025-02-04 04:15:15 -0500 (Tue, 04 Feb 2025) EndedAt: 2025-02-04 04:23:08 -0500 (Tue, 04 Feb 2025) EllapsedTime: 473.8 seconds RetCode: 1 Status: ERROR CheckDir: muscat.Rcheck Warnings: NA