Package: muscat Version: 1.20.0 Command: /home/biocbuild/R/R/bin/R CMD check --install=check:muscat.install-out.txt --library=/home/biocbuild/R/R/site-library --no-vignettes --timings muscat_1.20.0.tar.gz StartedAt: 2025-02-18 09:19:09 -0000 (Tue, 18 Feb 2025) EndedAt: 2025-02-18 09:27:34 -0000 (Tue, 18 Feb 2025) EllapsedTime: 505.1 seconds RetCode: 0 Status: OK CheckDir: muscat.Rcheck Warnings: 0