Package: muscat Version: 1.20.0 Command: /home/biocbuild/R/R/bin/R CMD INSTALL muscat StartedAt: 2025-02-03 21:16:05 -0000 (Mon, 03 Feb 2025) EndedAt: 2025-02-03 21:16:51 -0000 (Mon, 03 Feb 2025) EllapsedTime: 46.7 seconds RetCode: 0 Status: OK