Package: muscle Version: 3.48.0 Command: /Library/Frameworks/R.framework/Resources/bin/R CMD INSTALL muscle StartedAt: 2025-02-03 15:31:02 -0500 (Mon, 03 Feb 2025) EndedAt: 2025-02-03 15:31:26 -0500 (Mon, 03 Feb 2025) EllapsedTime: 23.4 seconds RetCode: 0 Status: OK