Package: muscle Version: 3.48.0 Command: rm -rf muscle.buildbin-libdir && mkdir muscle.buildbin-libdir && /Users/biocbuild/BBS/utils/build-universal.sh muscle_3.48.0.tar.gz /Library/Frameworks/R.framework/Resources/bin/R muscle.buildbin-libdir StartedAt: 2025-02-04 13:35:43 -0500 (Tue, 04 Feb 2025) EndedAt: 2025-02-04 13:38:03 -0500 (Tue, 04 Feb 2025) EllapsedTime: 139.7 seconds RetCode: 0 Status: OK PackageFile: muscle_3.48.0.tgz PackageFileSize: 514.9 KiB