Package: muscle Version: 3.48.0 Command: /home/biocbuild/R/R/bin/R CMD INSTALL muscle StartedAt: 2025-02-03 20:30:41 -0000 (Mon, 03 Feb 2025) EndedAt: 2025-02-03 20:31:46 -0000 (Mon, 03 Feb 2025) EllapsedTime: 64.9 seconds RetCode: 0 Status: OK