Package: musicatk Version: 2.0.0 Command: /home/biocbuild/bbs-3.20-bioc/R/bin/R CMD INSTALL musicatk StartedAt: 2025-02-03 16:10:41 -0500 (Mon, 03 Feb 2025) EndedAt: 2025-02-03 16:11:32 -0500 (Mon, 03 Feb 2025) EllapsedTime: 51.4 seconds RetCode: 0 Status: OK