Package: musicatk Version: 2.0.0 Command: /home/biocbuild/R/R/bin/R CMD INSTALL musicatk StartedAt: 2025-02-17 21:19:05 -0000 (Mon, 17 Feb 2025) EndedAt: 2025-02-17 21:20:02 -0000 (Mon, 17 Feb 2025) EllapsedTime: 57.2 seconds RetCode: 0 Status: OK