Package: mygene Version: 1.42.0 Command: /Library/Frameworks/R.framework/Resources/bin/R CMD INSTALL mygene StartedAt: 2025-02-03 16:36:48 -0500 (Mon, 03 Feb 2025) EndedAt: 2025-02-03 16:37:34 -0500 (Mon, 03 Feb 2025) EllapsedTime: 46.0 seconds RetCode: 0 Status: OK