Package: mygene
Version: 1.42.0
Command: /Library/Frameworks/R.framework/Resources/bin/R CMD INSTALL mygene
StartedAt: 2025-02-17 15:53:58 -0500 (Mon, 17 Feb 2025)
EndedAt: 2025-02-17 15:55:21 -0500 (Mon, 17 Feb 2025)
EllapsedTime: 82.8 seconds
RetCode: 0
Status: OK