Package: mygene
Version: 1.41.0
Command: F:\biocbuild\bbs-3.20-bioc\R\bin\R.exe CMD INSTALL mygene
StartedAt: 2024-06-09 16:19:01 -0400 (Sun, 09 Jun 2024)
EndedAt: 2024-06-09 16:19:54 -0400 (Sun, 09 Jun 2024)
EllapsedTime: 53.2 seconds
RetCode: 0
Status: OK