Package: myvariant Version: 1.36.0 Command: /Library/Frameworks/R.framework/Resources/bin/R CMD build --keep-empty-dirs --no-resave-data myvariant StartedAt: 2025-02-04 04:30:51 -0500 (Tue, 04 Feb 2025) EndedAt: 2025-02-04 04:32:15 -0500 (Tue, 04 Feb 2025) EllapsedTime: 83.3 seconds RetCode: 0 Status: OK PackageFile: myvariant_1.36.0.tar.gz PackageFileSize: 158.3 KiB