Package: myvariant Version: 1.36.0 Command: /home/biocbuild/bbs-3.20-bioc/R/bin/R CMD build --keep-empty-dirs --no-resave-data --md5 myvariant StartedAt: 2025-02-03 18:26:49 -0500 (Mon, 03 Feb 2025) EndedAt: 2025-02-03 18:27:45 -0500 (Mon, 03 Feb 2025) EllapsedTime: 55.0 seconds RetCode: 1 Status: ERROR PackageFile: None PackageFileSize: NA