Package: myvariant Version: 1.36.0 Command: /home/biocbuild/bbs-3.20-bioc/R/bin/R CMD check --install=check:myvariant.install-out.txt --library=/home/biocbuild/bbs-3.20-bioc/R/site-library --timings myvariant_1.36.0.tar.gz StartedAt: 2025-01-31 00:26:21 -0500 (Fri, 31 Jan 2025) EndedAt: 2025-01-31 00:30:58 -0500 (Fri, 31 Jan 2025) EllapsedTime: 277.4 seconds RetCode: 0 Status: OK CheckDir: myvariant.Rcheck Warnings: 0