Package: myvariant Version: 1.36.0 Command: /home/biocbuild/bbs-3.20-bioc/R/bin/R CMD INSTALL myvariant StartedAt: 2025-02-03 15:41:03 -0500 (Mon, 03 Feb 2025) EndedAt: 2025-02-03 15:41:46 -0500 (Mon, 03 Feb 2025) EllapsedTime: 42.2 seconds RetCode: 0 Status: OK