Package: myvariant Version: 1.36.0 Command: /home/biocbuild/R/R/bin/R CMD build --keep-empty-dirs --no-resave-data myvariant StartedAt: 2025-02-18 01:16:25 -0000 (Tue, 18 Feb 2025) EndedAt: 2025-02-18 01:17:44 -0000 (Tue, 18 Feb 2025) EllapsedTime: 79.0 seconds RetCode: 0 Status: OK PackageFile: myvariant_1.36.0.tar.gz PackageFileSize: 152.1 <A href="http://en.wikipedia.org/wiki/KiB" target="_blank">KiB</A>