Package: mzID
Version: 1.44.0
Command: /home/biocbuild/bbs-3.20-bioc/R/bin/R CMD build --keep-empty-dirs --no-resave-data --md5 mzID
StartedAt: 2025-02-17 18:13:12 -0500 (Mon, 17 Feb 2025)
EndedAt: 2025-02-17 18:13:21 -0500 (Mon, 17 Feb 2025)
EllapsedTime: 9.0 seconds
RetCode: 0
Status: OK
PackageFile: mzID_1.44.0.tar.gz
PackageFileSize: 583.9 <A href="http://en.wikipedia.org/wiki/KiB" target="_blank">KiB</A>