Package: mzID Version: 1.44.0 Command: /home/biocbuild/R/R/bin/R CMD build --keep-empty-dirs --no-resave-data mzID StartedAt: 2025-02-04 01:20:13 -0000 (Tue, 04 Feb 2025) EndedAt: 2025-02-04 01:20:23 -0000 (Tue, 04 Feb 2025) EllapsedTime: 10.0 seconds RetCode: 0 Status: OK PackageFile: mzID_1.44.0.tar.gz PackageFileSize: 577.9 KiB