Package: mzID Version: 1.44.0 Command: /home/biocbuild/R/R/bin/R CMD check --install=check:mzID.install-out.txt --library=/home/biocbuild/R/R/site-library --no-vignettes --timings mzID_1.44.0.tar.gz StartedAt: 2025-02-04 09:16:09 -0000 (Tue, 04 Feb 2025) EndedAt: 2025-02-04 09:16:47 -0000 (Tue, 04 Feb 2025) EllapsedTime: 38.1 seconds RetCode: 0 Status: OK CheckDir: mzID.Rcheck Warnings: 0