Package: mzR Version: 2.40.0 Command: rm -rf mzR.buildbin-libdir && mkdir mzR.buildbin-libdir && /Users/biocbuild/BBS/utils/build-universal.sh mzR_2.40.0.tar.gz /Library/Frameworks/R.framework/Resources/bin/R mzR.buildbin-libdir StartedAt: 2025-02-01 15:58:58 -0500 (Sat, 01 Feb 2025) EndedAt: 2025-02-01 16:07:29 -0500 (Sat, 01 Feb 2025) EllapsedTime: 510.7 seconds RetCode: 0 Status: OK PackageFile: mzR_2.40.0.tgz PackageFileSize: 3.538 MiB