Package: mzR Version: 2.40.0 Command: /Library/Frameworks/R.framework/Resources/bin/R CMD build --keep-empty-dirs --no-resave-data mzR StartedAt: 2025-01-31 04:23:26 -0500 (Fri, 31 Jan 2025) EndedAt: 2025-01-31 04:31:49 -0500 (Fri, 31 Jan 2025) EllapsedTime: 503.3 seconds RetCode: 0 Status: OK PackageFile: mzR_2.40.0.tar.gz PackageFileSize: 7.339 MiB