Package: mzR Version: 2.40.0 Command: /Library/Frameworks/R.framework/Resources/bin/R CMD check --install=check:mzR.install-out.txt --library=/Library/Frameworks/R.framework/Resources/library --no-vignettes --timings mzR_2.40.0.tar.gz StartedAt: 2025-02-01 02:57:15 -0500 (Sat, 01 Feb 2025) EndedAt: 2025-02-01 02:59:07 -0500 (Sat, 01 Feb 2025) EllapsedTime: 111.3 seconds RetCode: 0 Status: WARNINGS CheckDir: mzR.Rcheck Warnings: 2