Package: mzR Version: 2.40.0 Command: /Library/Frameworks/R.framework/Resources/bin/R CMD INSTALL mzR StartedAt: 2025-01-30 15:12:08 -0500 (Thu, 30 Jan 2025) EndedAt: 2025-01-30 15:19:26 -0500 (Thu, 30 Jan 2025) EllapsedTime: 437.2 seconds RetCode: 0 Status: OK