Package: mzR Version: 2.40.0 Command: /Library/Frameworks/R.framework/Resources/bin/R CMD build --keep-empty-dirs --no-resave-data mzR StartedAt: 2024-11-19 17:50:58 -0500 (Tue, 19 Nov 2024) EndedAt: 2024-11-19 18:06:44 -0500 (Tue, 19 Nov 2024) EllapsedTime: 945.2 seconds RetCode: 0 Status: OK PackageFile: mzR_2.40.0.tar.gz PackageFileSize: 7.339 MiB