Package: mzR Version: 2.40.0 Command: rm -rf mzR.buildbin-libdir && mkdir mzR.buildbin-libdir && /Users/biocbuild/BBS/utils/build-universal.sh mzR_2.40.0.tar.gz /Library/Frameworks/R.framework/Resources/bin/R mzR.buildbin-libdir StartedAt: 2025-01-31 13:16:19 -0500 (Fri, 31 Jan 2025) EndedAt: 2025-01-31 13:34:33 -0500 (Fri, 31 Jan 2025) EllapsedTime: 1093.3 seconds RetCode: 0 Status: OK PackageFile: mzR_2.40.0.tgz PackageFileSize: 4.027 MiB