Package: mzR Version: 2.40.0 Command: /Library/Frameworks/R.framework/Resources/bin/R CMD build --keep-empty-dirs --no-resave-data mzR StartedAt: 2025-01-30 21:19:49 -0500 (Thu, 30 Jan 2025) EndedAt: 2025-01-30 21:44:06 -0500 (Thu, 30 Jan 2025) EllapsedTime: 1456.8 seconds RetCode: 0 Status: OK PackageFile: mzR_2.40.0.tar.gz PackageFileSize: 7.339 MiB