Package: mzR Version: 2.40.0 Command: /Library/Frameworks/R.framework/Resources/bin/R CMD check --install=check:mzR.install-out.txt --library=/Library/Frameworks/R.framework/Resources/library --no-vignettes --timings mzR_2.40.0.tar.gz StartedAt: 2025-01-31 07:11:29 -0500 (Fri, 31 Jan 2025) EndedAt: 2025-01-31 07:14:21 -0500 (Fri, 31 Jan 2025) EllapsedTime: 172.2 seconds RetCode: 1 Status: ERROR CheckDir: mzR.Rcheck Warnings: NA