Package: mzR Version: 2.40.0 Command: /home/biocbuild/bbs-3.20-bioc/R/bin/R CMD build --keep-empty-dirs --no-resave-data --md5 mzR StartedAt: 2025-01-30 18:17:33 -0500 (Thu, 30 Jan 2025) EndedAt: 2025-01-30 18:27:07 -0500 (Thu, 30 Jan 2025) EllapsedTime: 573.7 seconds RetCode: 0 Status: OK PackageFile: mzR_2.40.0.tar.gz PackageFileSize: 7.517 MiB