Package: mzR Version: 2.40.0 Command: /home/biocbuild/bbs-3.20-bioc/R/bin/R CMD INSTALL mzR StartedAt: 2025-01-30 15:08:39 -0500 (Thu, 30 Jan 2025) EndedAt: 2025-01-30 15:16:56 -0500 (Thu, 30 Jan 2025) EllapsedTime: 497.1 seconds RetCode: 0 Status: OK