Package: mzR Version: 2.40.0 Command: rm -rf mzR.buildbin-libdir && mkdir mzR.buildbin-libdir && F:\biocbuild\bbs-3.20-bioc\R\bin\R.exe CMD INSTALL --build --library=mzR.buildbin-libdir mzR_2.40.0.tar.gz StartedAt: 2025-01-31 09:09:31 -0500 (Fri, 31 Jan 2025) EndedAt: 2025-01-31 09:21:46 -0500 (Fri, 31 Jan 2025) EllapsedTime: 734.6 seconds RetCode: 0 Status: OK PackageFile: mzR_2.40.0.zip PackageFileSize: 3.755 MiB